BEGIN:VCALENDAR
VERSION:2.0
PRODID:-//SHS JAMES - ECPv6.15.20//NONSGML v1.0//EN
CALSCALE:GREGORIAN
METHOD:PUBLISH
X-ORIGINAL-URL:https://shsjames.org
X-WR-CALDESC:Udalosti pre SHS JAMES
REFRESH-INTERVAL;VALUE=DURATION:PT1H
X-Robots-Tag:noindex
X-PUBLISHED-TTL:PT1H
BEGIN:VTIMEZONE
TZID:UTC
BEGIN:STANDARD
TZOFFSETFROM:+0000
TZOFFSETTO:+0000
TZNAME:UTC
DTSTART:20280101T000000
END:STANDARD
END:VTIMEZONE
BEGIN:VEVENT
DTSTART;VALUE=DATE:20291225
DTEND;VALUE=DATE:20291226
DTSTAMP:20260426T061417
CREATED:20240325T190552Z
LAST-MODIFIED:20260426T040721Z
UID:43900-1892851200-1892937599@shsjames.org
SUMMARY:Prvý sviatok vianočný
DESCRIPTION:Štátny sviatok
URL:https://shsjames.org/akcia/prvy-sviatok-vianocny-11/
CATEGORIES:Sviatky na Slovensku
END:VEVENT
BEGIN:VEVENT
DTSTART;VALUE=DATE:20291226
DTEND;VALUE=DATE:20291227
DTSTAMP:20260426T061417
CREATED:20240325T190552Z
LAST-MODIFIED:20260426T040721Z
UID:43901-1892937600-1893023999@shsjames.org
SUMMARY:Druhý sviatok vianočný
DESCRIPTION:Štátny sviatok
URL:https://shsjames.org/akcia/druhy-sviatok-vianocny-11/
CATEGORIES:Sviatky na Slovensku
END:VEVENT
BEGIN:VEVENT
DTSTART;VALUE=DATE:20300101
DTEND;VALUE=DATE:20300102
DTSTAMP:20260426T061417
CREATED:20250112T190546Z
LAST-MODIFIED:20260426T040721Z
UID:117083-1893456000-1893542399@shsjames.org
SUMMARY:Deň vzniku Slovenskej republiky
DESCRIPTION:Štátny sviatok
URL:https://shsjames.org/akcia/den-vzniku-slovenskej-republiky-2/
CATEGORIES:Sviatky na Slovensku
END:VEVENT
BEGIN:VEVENT
DTSTART;VALUE=DATE:20300106
DTEND;VALUE=DATE:20300107
DTSTAMP:20260426T061417
CREATED:20250112T190546Z
LAST-MODIFIED:20260426T040721Z
UID:117084-1893888000-1893974399@shsjames.org
SUMMARY:Zjavenie Pána
DESCRIPTION:Štátny sviatok
URL:https://shsjames.org/akcia/zjavenie-pana-2/
CATEGORIES:Sviatky na Slovensku
END:VEVENT
BEGIN:VEVENT
DTSTART;VALUE=DATE:20300419
DTEND;VALUE=DATE:20300420
DTSTAMP:20260426T061417
CREATED:20250112T190546Z
LAST-MODIFIED:20260426T040721Z
UID:117085-1902787200-1902873599@shsjames.org
SUMMARY:Veľký piatok
DESCRIPTION:Štátny sviatok
URL:https://shsjames.org/akcia/velky-piatok-2/
CATEGORIES:Sviatky na Slovensku
END:VEVENT
BEGIN:VEVENT
DTSTART;VALUE=DATE:20300421
DTEND;VALUE=DATE:20300422
DTSTAMP:20260426T061417
CREATED:20250112T190546Z
LAST-MODIFIED:20260426T040721Z
UID:117086-1902960000-1903046399@shsjames.org
SUMMARY:Veľkonočná nedeľa
DESCRIPTION:Pamätný deňPamätné dni skryjete v sekcii Nastavenia Kalendára Google > Sviatky na Slovensku
URL:https://shsjames.org/akcia/velkonocna-nedela-2/
CATEGORIES:Sviatky na Slovensku
END:VEVENT
BEGIN:VEVENT
DTSTART;VALUE=DATE:20300422
DTEND;VALUE=DATE:20300423
DTSTAMP:20260426T061417
CREATED:20250112T190546Z
LAST-MODIFIED:20260426T040721Z
UID:117087-1903046400-1903132799@shsjames.org
SUMMARY:Veľkonočný pondelok
DESCRIPTION:Štátny sviatok
URL:https://shsjames.org/akcia/velkonocny-pondelok-2/
CATEGORIES:Sviatky na Slovensku
END:VEVENT
BEGIN:VEVENT
DTSTART;VALUE=DATE:20300501
DTEND;VALUE=DATE:20300502
DTSTAMP:20260426T061417
CREATED:20250112T190546Z
LAST-MODIFIED:20260426T040721Z
UID:117088-1903824000-1903910399@shsjames.org
SUMMARY:Sviatok práce
DESCRIPTION:Štátny sviatok
URL:https://shsjames.org/akcia/sviatok-prace-2/
CATEGORIES:Sviatky na Slovensku
END:VEVENT
BEGIN:VEVENT
DTSTART;VALUE=DATE:20300508
DTEND;VALUE=DATE:20300509
DTSTAMP:20260426T061417
CREATED:20250112T190546Z
LAST-MODIFIED:20260426T040721Z
UID:117089-1904428800-1904515199@shsjames.org
SUMMARY:Deň víťazstva nad faŝizmom
DESCRIPTION:Pamätný deňPamätné dni skryjete v sekcii Nastavenia Kalendára Google > Sviatky na Slovensku
URL:https://shsjames.org/akcia/den-vitazstva-nad-fasizmom-2/
CATEGORIES:Sviatky na Slovensku
END:VEVENT
BEGIN:VEVENT
DTSTART;VALUE=DATE:20300705
DTEND;VALUE=DATE:20300706
DTSTAMP:20260426T061417
CREATED:20250112T190546Z
LAST-MODIFIED:20260426T040721Z
UID:117090-1909440000-1909526399@shsjames.org
SUMMARY:Sviatok svätého Cyrila a Metoda
DESCRIPTION:Štátny sviatok
URL:https://shsjames.org/akcia/sviatok-svateho-cyrila-a-metoda-2/
CATEGORIES:Sviatky na Slovensku
END:VEVENT
BEGIN:VEVENT
DTSTART;VALUE=DATE:20300829
DTEND;VALUE=DATE:20300830
DTSTAMP:20260426T061417
CREATED:20250112T190547Z
LAST-MODIFIED:20260426T040722Z
UID:117091-1914192000-1914278399@shsjames.org
SUMMARY:Výročie SNP
DESCRIPTION:Štátny sviatok
URL:https://shsjames.org/akcia/vyrocie-snp-2/
CATEGORIES:Sviatky na Slovensku
END:VEVENT
BEGIN:VEVENT
DTSTART;VALUE=DATE:20300901
DTEND;VALUE=DATE:20300902
DTSTAMP:20260426T061417
CREATED:20250112T190547Z
LAST-MODIFIED:20260426T040722Z
UID:117092-1914451200-1914537599@shsjames.org
SUMMARY:Deň Ústavy Slovenskej republiky
DESCRIPTION:Pamätný deňPamätné dni skryjete v sekcii Nastavenia Kalendára Google > Sviatky na Slovensku
URL:https://shsjames.org/akcia/den-ustavy-slovenskej-republiky-2/
CATEGORIES:Sviatky na Slovensku
END:VEVENT
BEGIN:VEVENT
DTSTART;VALUE=DATE:20300915
DTEND;VALUE=DATE:20300916
DTSTAMP:20260426T061417
CREATED:20250112T190547Z
LAST-MODIFIED:20260426T040722Z
UID:117093-1915660800-1915747199@shsjames.org
SUMMARY:Sviatok sedembolestnej Panny Márie
DESCRIPTION:Pamätný deňPamätné dni skryjete v sekcii Nastavenia Kalendára Google > Sviatky na Slovensku
URL:https://shsjames.org/akcia/sviatok-sedembolestnej-panny-marie-2/
CATEGORIES:Sviatky na Slovensku
END:VEVENT
BEGIN:VEVENT
DTSTART;VALUE=DATE:20301101
DTEND;VALUE=DATE:20301102
DTSTAMP:20260426T061417
CREATED:20250112T190547Z
LAST-MODIFIED:20260426T040722Z
UID:117094-1919721600-1919807999@shsjames.org
SUMMARY:Sviatok vŝetkých svätých
DESCRIPTION:Štátny sviatok
URL:https://shsjames.org/akcia/sviatok-vsetkych-svatych-2/
CATEGORIES:Sviatky na Slovensku
END:VEVENT
BEGIN:VEVENT
DTSTART;VALUE=DATE:20301117
DTEND;VALUE=DATE:20301118
DTSTAMP:20260426T061417
CREATED:20250112T190547Z
LAST-MODIFIED:20260426T040722Z
UID:117095-1921104000-1921190399@shsjames.org
SUMMARY:Deň boja za slobodu a demokraciu
DESCRIPTION:Pamätný deňPamätné dni skryjete v sekcii Nastavenia Kalendára Google > Sviatky na Slovensku
URL:https://shsjames.org/akcia/den-boja-za-slobodu-a-demokraciu-2/
CATEGORIES:Sviatky na Slovensku
END:VEVENT
BEGIN:VEVENT
DTSTART;VALUE=DATE:20301224
DTEND;VALUE=DATE:20301225
DTSTAMP:20260426T061417
CREATED:20250112T190547Z
LAST-MODIFIED:20260426T040722Z
UID:117096-1924300800-1924387199@shsjames.org
SUMMARY:Ŝtedrý deň
DESCRIPTION:Štátny sviatok
URL:https://shsjames.org/akcia/stedry-den-2/
CATEGORIES:Sviatky na Slovensku
END:VEVENT
BEGIN:VEVENT
DTSTART;VALUE=DATE:20301225
DTEND;VALUE=DATE:20301226
DTSTAMP:20260426T061417
CREATED:20250112T190548Z
LAST-MODIFIED:20260426T040722Z
UID:117097-1924387200-1924473599@shsjames.org
SUMMARY:Prvý sviatok vianočný
DESCRIPTION:Štátny sviatok
URL:https://shsjames.org/akcia/prvy-sviatok-vianocny-2/
CATEGORIES:Sviatky na Slovensku
END:VEVENT
BEGIN:VEVENT
DTSTART;VALUE=DATE:20301226
DTEND;VALUE=DATE:20301227
DTSTAMP:20260426T061417
CREATED:20250112T190548Z
LAST-MODIFIED:20260426T040722Z
UID:117098-1924473600-1924559999@shsjames.org
SUMMARY:Druhý sviatok vianočný
DESCRIPTION:Štátny sviatok
URL:https://shsjames.org/akcia/druhy-sviatok-vianocny-2/
CATEGORIES:Sviatky na Slovensku
END:VEVENT
BEGIN:VEVENT
DTSTART;VALUE=DATE:20310101
DTEND;VALUE=DATE:20310102
DTSTAMP:20260426T061417
CREATED:20260102T110631Z
LAST-MODIFIED:20260426T040722Z
UID:202551-1924992000-1925078399@shsjames.org
SUMMARY:Deň vzniku Slovenskej republiky
DESCRIPTION:Štátny sviatok
URL:https://shsjames.org/akcia/den-vzniku-slovenskej-republiky-5/
CATEGORIES:Sviatky na Slovensku
END:VEVENT
BEGIN:VEVENT
DTSTART;VALUE=DATE:20310106
DTEND;VALUE=DATE:20310107
DTSTAMP:20260426T061417
CREATED:20260102T110631Z
LAST-MODIFIED:20260426T040722Z
UID:202552-1925424000-1925510399@shsjames.org
SUMMARY:Zjavenie Pána
DESCRIPTION:Štátny sviatok
URL:https://shsjames.org/akcia/zjavenie-pana-5/
CATEGORIES:Sviatky na Slovensku
END:VEVENT
BEGIN:VEVENT
DTSTART;VALUE=DATE:20310411
DTEND;VALUE=DATE:20310412
DTSTAMP:20260426T061417
CREATED:20260102T110631Z
LAST-MODIFIED:20260426T040722Z
UID:202553-1933632000-1933718399@shsjames.org
SUMMARY:Veľký piatok
DESCRIPTION:Štátny sviatok
URL:https://shsjames.org/akcia/velky-piatok-5/
CATEGORIES:Sviatky na Slovensku
END:VEVENT
BEGIN:VEVENT
DTSTART;VALUE=DATE:20310413
DTEND;VALUE=DATE:20310414
DTSTAMP:20260426T061417
CREATED:20260102T110631Z
LAST-MODIFIED:20260426T040722Z
UID:202554-1933804800-1933891199@shsjames.org
SUMMARY:Veľkonočná nedeľa
DESCRIPTION:Pamätný deňPamätné dni skryjete v sekcii Nastavenia Kalendára Google > Sviatky na Slovensku
URL:https://shsjames.org/akcia/velkonocna-nedela-5/
CATEGORIES:Sviatky na Slovensku
END:VEVENT
BEGIN:VEVENT
DTSTART;VALUE=DATE:20310414
DTEND;VALUE=DATE:20310415
DTSTAMP:20260426T061417
CREATED:20260102T110631Z
LAST-MODIFIED:20260426T040722Z
UID:202555-1933891200-1933977599@shsjames.org
SUMMARY:Veľkonočný pondelok
DESCRIPTION:Štátny sviatok
URL:https://shsjames.org/akcia/velkonocny-pondelok-5/
CATEGORIES:Sviatky na Slovensku
END:VEVENT
BEGIN:VEVENT
DTSTART;VALUE=DATE:20310501
DTEND;VALUE=DATE:20310502
DTSTAMP:20260426T061417
CREATED:20260102T110631Z
LAST-MODIFIED:20260426T040723Z
UID:202556-1935360000-1935446399@shsjames.org
SUMMARY:Sviatok práce
DESCRIPTION:Štátny sviatok
URL:https://shsjames.org/akcia/sviatok-prace-5/
CATEGORIES:Sviatky na Slovensku
END:VEVENT
BEGIN:VEVENT
DTSTART;VALUE=DATE:20310508
DTEND;VALUE=DATE:20310509
DTSTAMP:20260426T061417
CREATED:20260102T110631Z
LAST-MODIFIED:20260426T040723Z
UID:202557-1935964800-1936051199@shsjames.org
SUMMARY:Deň víťazstva nad faŝizmom
DESCRIPTION:Pamätný deňPamätné dni skryjete v sekcii Nastavenia Kalendára Google > Sviatky na Slovensku
URL:https://shsjames.org/akcia/den-vitazstva-nad-fasizmom-5/
CATEGORIES:Sviatky na Slovensku
END:VEVENT
BEGIN:VEVENT
DTSTART;VALUE=DATE:20310705
DTEND;VALUE=DATE:20310706
DTSTAMP:20260426T061417
CREATED:20260102T110632Z
LAST-MODIFIED:20260426T040723Z
UID:202558-1940976000-1941062399@shsjames.org
SUMMARY:Sviatok svätého Cyrila a Metoda
DESCRIPTION:Štátny sviatok
URL:https://shsjames.org/akcia/sviatok-svateho-cyrila-a-metoda-5/
CATEGORIES:Sviatky na Slovensku
END:VEVENT
BEGIN:VEVENT
DTSTART;VALUE=DATE:20310829
DTEND;VALUE=DATE:20310830
DTSTAMP:20260426T061417
CREATED:20260102T110632Z
LAST-MODIFIED:20260426T040723Z
UID:202559-1945728000-1945814399@shsjames.org
SUMMARY:Výročie SNP
DESCRIPTION:Štátny sviatok
URL:https://shsjames.org/akcia/vyrocie-snp-5/
CATEGORIES:Sviatky na Slovensku
END:VEVENT
BEGIN:VEVENT
DTSTART;VALUE=DATE:20310901
DTEND;VALUE=DATE:20310902
DTSTAMP:20260426T061417
CREATED:20260102T110632Z
LAST-MODIFIED:20260426T040723Z
UID:202560-1945987200-1946073599@shsjames.org
SUMMARY:Deň Ústavy Slovenskej republiky
DESCRIPTION:Pamätný deňPamätné dni skryjete v sekcii Nastavenia Kalendára Google > Sviatky na Slovensku
URL:https://shsjames.org/akcia/den-ustavy-slovenskej-republiky-5/
CATEGORIES:Sviatky na Slovensku
END:VEVENT
BEGIN:VEVENT
DTSTART;VALUE=DATE:20310915
DTEND;VALUE=DATE:20310916
DTSTAMP:20260426T061417
CREATED:20260102T110632Z
LAST-MODIFIED:20260426T040723Z
UID:202561-1947196800-1947283199@shsjames.org
SUMMARY:Sviatok sedembolestnej Panny Márie
DESCRIPTION:Pamätný deňPamätné dni skryjete v sekcii Nastavenia Kalendára Google > Sviatky na Slovensku
URL:https://shsjames.org/akcia/sviatok-sedembolestnej-panny-marie-5/
CATEGORIES:Sviatky na Slovensku
END:VEVENT
BEGIN:VEVENT
DTSTART;VALUE=DATE:20311101
DTEND;VALUE=DATE:20311102
DTSTAMP:20260426T061417
CREATED:20260102T110632Z
LAST-MODIFIED:20260426T040723Z
UID:202562-1951257600-1951343999@shsjames.org
SUMMARY:Sviatok vŝetkých svätých
DESCRIPTION:Štátny sviatok
URL:https://shsjames.org/akcia/sviatok-vsetkych-svatych-5/
CATEGORIES:Sviatky na Slovensku
END:VEVENT
END:VCALENDAR